BEGIN:VCALENDAR
VERSION:2.0
PRODID:-//Kjells Wunderland - ECPv6.15.20//NONSGML v1.0//EN
CALSCALE:GREGORIAN
METHOD:PUBLISH
X-ORIGINAL-URL:https://kjellswunderland.de
X-WR-CALDESC:Veranstaltungen für Kjells Wunderland
REFRESH-INTERVAL;VALUE=DURATION:PT1H
X-Robots-Tag:noindex
X-PUBLISHED-TTL:PT1H
BEGIN:VTIMEZONE
TZID:Europe/Berlin
BEGIN:DAYLIGHT
TZOFFSETFROM:+0100
TZOFFSETTO:+0200
TZNAME:CEST
DTSTART:20230326T010000
END:DAYLIGHT
BEGIN:STANDARD
TZOFFSETFROM:+0200
TZOFFSETTO:+0100
TZNAME:CET
DTSTART:20231029T010000
END:STANDARD
BEGIN:DAYLIGHT
TZOFFSETFROM:+0100
TZOFFSETTO:+0200
TZNAME:CEST
DTSTART:20240331T010000
END:DAYLIGHT
BEGIN:STANDARD
TZOFFSETFROM:+0200
TZOFFSETTO:+0100
TZNAME:CET
DTSTART:20241027T010000
END:STANDARD
BEGIN:DAYLIGHT
TZOFFSETFROM:+0100
TZOFFSETTO:+0200
TZNAME:CEST
DTSTART:20250330T010000
END:DAYLIGHT
BEGIN:STANDARD
TZOFFSETFROM:+0200
TZOFFSETTO:+0100
TZNAME:CET
DTSTART:20251026T010000
END:STANDARD
END:VTIMEZONE
BEGIN:VEVENT
DTSTART;VALUE=DATE:20241130
DTEND;VALUE=DATE:20241203
DTSTAMP:20260422T061027
CREATED:20240516T063111Z
LAST-MODIFIED:20241016T100243Z
UID:1396-1732928400-1733101199@kjellswunderland.de
SUMMARY:Nikolausmarkt im Museumsdorf Cloppenburg
DESCRIPTION:Nikolausmarkt im Museumsdorf Cloppenburg\n\nEs ist wieder soweit. Kjells Wunderland e.V. ist wieder mit der Aktion „1000 Sterne leuchten für Dich“ auf dem Nikolausmarkt im Museumsdorf. Ab dem 01.11.2024 startet der Vorverkauf der Sterne unter lichtermeer_museumsdorf@web.de. \n30 November\n–\n1 December\n \nMuseumsdorf Cloppenburg\nBether Straße 6\n49661 Cloppenburg\,\nNiedersachsen\nDeutschland\n  \n  \n  \n  \nGoogle Karte anzeigen \nVeranstaltungsort-Website anzeigen \n						„Iframe von Google Maps\, der die Adresse von Museumsdorf Cloppenburg anzeigt“ von Google Maps anzeigen						 \n\n\n\n		Hier klicken\, um den Inhalt von Google Maps anzuzeigen.										Erfahre mehr in der Datenschutzerklärung von Google Maps.		 \n										Inhalt von Google Maps immer anzeigen					 \n \n„Iframe von Google Maps\, der die Adresse von Museumsdorf Cloppenburg anzeigt“ direkt öffnen\n \n							\n \n \nWebseite:\nmuseumsdorf.de \n\n\nZum Kalender hinzufügen \n \n \n\nGoogle Kalender\niCalendar\nOutlook 365\nOutlook Live
URL:https://kjellswunderland.de/event/nikolausmarkt-im-museumsdorf-cloppenburg/
LOCATION:Museumsdorf Cloppenburg\, Bether Straße 6\, Cloppenburg\, Niedersachsen\, 49661\, Deutschland
CATEGORIES:Charityveranstaltungen
END:VEVENT
END:VCALENDAR