BEGIN:VCALENDAR
VERSION:2.0
PRODID:-//Kjells Wunderland - ECPv6.15.20//NONSGML v1.0//EN
CALSCALE:GREGORIAN
METHOD:PUBLISH
X-ORIGINAL-URL:https://kjellswunderland.de
X-WR-CALDESC:Veranstaltungen für Kjells Wunderland
REFRESH-INTERVAL;VALUE=DURATION:PT1H
X-Robots-Tag:noindex
X-PUBLISHED-TTL:PT1H
BEGIN:VTIMEZONE
TZID:Europe/Berlin
BEGIN:DAYLIGHT
TZOFFSETFROM:+0100
TZOFFSETTO:+0200
TZNAME:CEST
DTSTART:20230326T010000
END:DAYLIGHT
BEGIN:STANDARD
TZOFFSETFROM:+0200
TZOFFSETTO:+0100
TZNAME:CET
DTSTART:20231029T010000
END:STANDARD
BEGIN:DAYLIGHT
TZOFFSETFROM:+0100
TZOFFSETTO:+0200
TZNAME:CEST
DTSTART:20240331T010000
END:DAYLIGHT
BEGIN:STANDARD
TZOFFSETFROM:+0200
TZOFFSETTO:+0100
TZNAME:CET
DTSTART:20241027T010000
END:STANDARD
BEGIN:DAYLIGHT
TZOFFSETFROM:+0100
TZOFFSETTO:+0200
TZNAME:CEST
DTSTART:20250330T010000
END:DAYLIGHT
BEGIN:STANDARD
TZOFFSETFROM:+0200
TZOFFSETTO:+0100
TZNAME:CET
DTSTART:20251026T010000
END:STANDARD
END:VTIMEZONE
BEGIN:VEVENT
DTSTART;TZID=Europe/Berlin:20240427T100000
DTEND;TZID=Europe/Berlin:20240427T180000
DTSTAMP:20260424T163047
CREATED:20240503T065237Z
LAST-MODIFIED:20240517T073914Z
UID:1296-1714212000-1714240800@kjellswunderland.de
SUMMARY:Neueröffnung „Natürlich Glückskind“ in Cloppenburg
DESCRIPTION:
URL:https://kjellswunderland.de/event/neueroeffnung-natuerlich-glueckskind-in-cloppenburg/
LOCATION:Glückskind Store\, Am Capitol 3 - 5\, Cloppenburg\, Niedersachsen\, 49661\, Deutschland
CATEGORIES:Charityveranstaltungen
END:VEVENT
END:VCALENDAR