BEGIN:VCALENDAR
VERSION:2.0
PRODID:-//Kjells Wunderland - ECPv6.15.20//NONSGML v1.0//EN
CALSCALE:GREGORIAN
METHOD:PUBLISH
X-ORIGINAL-URL:https://kjellswunderland.de
X-WR-CALDESC:Veranstaltungen für Kjells Wunderland
REFRESH-INTERVAL;VALUE=DURATION:PT1H
X-Robots-Tag:noindex
X-PUBLISHED-TTL:PT1H
BEGIN:VTIMEZONE
TZID:Europe/Berlin
BEGIN:DAYLIGHT
TZOFFSETFROM:+0100
TZOFFSETTO:+0200
TZNAME:CEST
DTSTART:20240331T010000
END:DAYLIGHT
BEGIN:STANDARD
TZOFFSETFROM:+0200
TZOFFSETTO:+0100
TZNAME:CET
DTSTART:20241027T010000
END:STANDARD
BEGIN:DAYLIGHT
TZOFFSETFROM:+0100
TZOFFSETTO:+0200
TZNAME:CEST
DTSTART:20250330T010000
END:DAYLIGHT
BEGIN:STANDARD
TZOFFSETFROM:+0200
TZOFFSETTO:+0100
TZNAME:CET
DTSTART:20251026T010000
END:STANDARD
BEGIN:DAYLIGHT
TZOFFSETFROM:+0100
TZOFFSETTO:+0200
TZNAME:CEST
DTSTART:20260329T010000
END:DAYLIGHT
BEGIN:STANDARD
TZOFFSETFROM:+0200
TZOFFSETTO:+0100
TZNAME:CET
DTSTART:20261025T010000
END:STANDARD
END:VTIMEZONE
BEGIN:VEVENT
DTSTART;VALUE=DATE:20250504
DTEND;VALUE=DATE:20250505
DTSTAMP:20260421T204048
CREATED:20250210T100716Z
LAST-MODIFIED:20250210T101338Z
UID:4140-1746316800-1746403199@kjellswunderland.de
SUMMARY:Wunderland - die erste Familie kann anreisen
DESCRIPTION:Wunderland – die erste Familie kann anreisen\nAb dem 04.05.2025 geht es los. Die erste Familie kann in das Wunderland einziehen. \n \n\n	Datum und Uhrzeit:\n			4 Mai  2025 \n\n	Webseite:\n	kjellswunderland.de/wunderland\n\n	\n	Zum Kalender hinzufügen	\n		\n	\n \n\n\n	Google Kalender\n\n\n	iCalendar\n\n\n	Outlook 365\n\n\n	Outlook Live\n\n\n\n\n\n\n				Startschuss für Anmeldungen für das Wunderland
URL:https://kjellswunderland.de/event/wunderland-die-erste-familie-kann-anreisen/
CATEGORIES:Charityveranstaltungen
END:VEVENT
END:VCALENDAR